BEGIN:VCALENDAR
VERSION:2.0
PRODID:-//DT Nidderkäerjeng - ECPv5.0.2.1//NONSGML v1.0//EN
CALSCALE:GREGORIAN
METHOD:PUBLISH
X-WR-CALNAME:DT Nidderkäerjeng
X-ORIGINAL-URL:https://dtnidderkaerjeng.lu/wp
X-WR-CALDESC:Évènements pour DT Nidderkäerjeng
BEGIN:VTIMEZONE
TZID:Europe/Luxembourg
BEGIN:DAYLIGHT
TZOFFSETFROM:+0100
TZOFFSETTO:+0200
TZNAME:CEST
DTSTART:20190331T010000
END:DAYLIGHT
BEGIN:STANDARD
TZOFFSETFROM:+0200
TZOFFSETTO:+0100
TZNAME:CET
DTSTART:20191027T010000
END:STANDARD
END:VTIMEZONE
BEGIN:VEVENT
DTSTART;TZID=Europe/Luxembourg:20191221T080000
DTEND;TZID=Europe/Luxembourg:20191221T170000
DTSTAMP:20210720T195035
CREATED:20200116T162450Z
LAST-MODIFIED:20200122T095710Z
UID:199-1576915200-1576947600@dtnidderkaerjeng.lu
SUMMARY:Challenge Gemeng Nidderkäerjeng
DESCRIPTION:\n\n\n9:30 Pré-Minimes+Minimes9:30 Cadets11:00 Kategorie D13:00 Kategorie C13:00 Kategorie A+B18:00 Präisiwwerreechung an Éierewäin offréiert vun der Käerjenger Gemeng \n\n\n\n\n\n\n\n\n\n\n
URL:https://dtnidderkaerjeng.lu/wp/event/challenge-gemeng-nidderkaerjeng/
LOCATION:Hal Lénger\, 12\, rue de la Libération\, Linger\, L-4798\, Luxembourg
END:VEVENT
END:VCALENDAR