BEGIN:VCALENDAR
VERSION:2.0
PRODID:-//DT Nidderkäerjeng - ECPv5.0.2.1//NONSGML v1.0//EN
CALSCALE:GREGORIAN
METHOD:PUBLISH
X-WR-CALNAME:DT Nidderkäerjeng
X-ORIGINAL-URL:https://dtnidderkaerjeng.lu/wp
X-WR-CALDESC:Évènements pour DT Nidderkäerjeng
BEGIN:VTIMEZONE
TZID:Europe/Luxembourg
BEGIN:DAYLIGHT
TZOFFSETFROM:+0100
TZOFFSETTO:+0200
TZNAME:CEST
DTSTART:20200329T010000
END:DAYLIGHT
BEGIN:STANDARD
TZOFFSETFROM:+0200
TZOFFSETTO:+0100
TZNAME:CET
DTSTART:20201025T010000
END:STANDARD
END:VTIMEZONE
BEGIN:VEVENT
DTSTART;TZID=Europe/Luxembourg:20200126T083000
DTEND;TZID=Europe/Luxembourg:20200126T163000
DTSTAMP:20210720T194937
CREATED:20200116T193030Z
LAST-MODIFIED:20200122T095735Z
UID:217-1580027400-1580056200@dtnidderkaerjeng.lu
SUMMARY:Regionalmeisterschaften Zentrum/Süden
DESCRIPTION:\n\n\n \n\n\n\n\n\n\n\n\n\nSimple-Fiche-dinscription-championnat-sud_centre-2020.xls-KompatibilitätsmodusTélécharger\n\n\n\nDouble-Fiche-dinscription-championnat-sud_centre-2020.xls-KompatibilitätsmodusTélécharger\n\n\n\n\n
URL:https://dtnidderkaerjeng.lu/wp/event/regionalmeisterschaften-zentrum-suden/
LOCATION:Centre sportif « Op Acker »\, 83A Avenue de Luxembourg\, Bascharage\, 4940\, Luxembourg
END:VEVENT
END:VCALENDAR