BEGIN:VCALENDAR
VERSION:2.0
PRODID:-//DT Nidderkäerjeng - ECPv6.3.5//NONSGML v1.0//EN
CALSCALE:GREGORIAN
METHOD:PUBLISH
X-ORIGINAL-URL:https://dtnidderkaerjeng.lu/wp
X-WR-CALDESC:évènements pour DT Nidderkäerjeng
REFRESH-INTERVAL;VALUE=DURATION:PT1H
X-Robots-Tag:noindex
X-PUBLISHED-TTL:PT1H
BEGIN:VTIMEZONE
TZID:Europe/Luxembourg
BEGIN:DAYLIGHT
TZOFFSETFROM:+0100
TZOFFSETTO:+0200
TZNAME:CEST
DTSTART:20190331T010000
END:DAYLIGHT
BEGIN:STANDARD
TZOFFSETFROM:+0200
TZOFFSETTO:+0100
TZNAME:CET
DTSTART:20191027T010000
END:STANDARD
END:VTIMEZONE
BEGIN:VEVENT
DTSTART;TZID=Europe/Luxembourg:20191110T110000
DTEND;TZID=Europe/Luxembourg:20191110T160000
DTSTAMP:20260425T005029
CREATED:20191223T175611Z
LAST-MODIFIED:20200116T191836Z
UID:184-1573383600-1573401600@dtnidderkaerjeng.lu
SUMMARY:Women ETTU Cup ASSSA Alicante TDM
DESCRIPTION:Match de retour\, 1/8 de Finales
URL:https://dtnidderkaerjeng.lu/wp/event/women-ettu-cup-asssa-alicante-tdm/
LOCATION:Op Acker\, Op Acker\, Bascharage\, Luxembourg
END:VEVENT
END:VCALENDAR