BEGIN:VCALENDAR
VERSION:2.0
PRODID:-//DT Nidderkäerjeng - ECPv6.3.5//NONSGML v1.0//EN
CALSCALE:GREGORIAN
METHOD:PUBLISH
X-ORIGINAL-URL:https://dtnidderkaerjeng.lu/wp
X-WR-CALDESC:évènements pour DT Nidderkäerjeng
REFRESH-INTERVAL;VALUE=DURATION:PT1H
X-Robots-Tag:noindex
X-PUBLISHED-TTL:PT1H
BEGIN:VTIMEZONE
TZID:Europe/Luxembourg
BEGIN:DAYLIGHT
TZOFFSETFROM:+0100
TZOFFSETTO:+0200
TZNAME:CEST
DTSTART:20210328T010000
END:DAYLIGHT
BEGIN:STANDARD
TZOFFSETFROM:+0200
TZOFFSETTO:+0100
TZNAME:CET
DTSTART:20211031T010000
END:STANDARD
END:VTIMEZONE
BEGIN:VEVENT
DTSTART;TZID=Europe/Luxembourg:20211010T093000
DTEND;TZID=Europe/Luxembourg:20211010T170000
DTSTAMP:20260425T030157
CREATED:20200122T094906Z
LAST-MODIFIED:20210922T162727Z
UID:506-1633858200-1633885200@dtnidderkaerjeng.lu
SUMMARY:Kriterium Minimes/Cadets/Juniors
DESCRIPTION:Eis Jugend hellt um Kriterium deel. \n\n\n\nEnisa Sadikovic an der Cadetskategorie bei den Meedecher \n\n\n\nMelisa Sadikovic an der Juniorskategorie bei den Meedecher \n\n\n\nMir wenschen hinnen vill Gleck! \n\n\n\nWeider Infoen fann dir ennert: \n\n\n\nhttps://www.fltt.lu/media/bb44859a-ee95-4d4a-8725-42729e2b4a87/bio-31-21-2021-09-17.pdf
URL:https://dtnidderkaerjeng.lu/wp/event/freijoersjugentournoi-vum-50ten-anniversaire/
LOCATION:Hall Sportif Bridel\, 9\, rue François-Christian Gerden\, Bridel\, 8132\, Luxembourg
END:VEVENT
END:VCALENDAR